BEGIN:VCALENDAR
VERSION:2.0
PRODID:-//Tukios.com/
BEGIN:VEVENT
UID:83d01b16-d9dc-4aa7-a612-644429a7a956@www.robertsofdunnellon.com
DTSTAMP:20260425T013928Z
DTSTART:20260428T150000Z
DTEND:20260428T160000Z
SUMMARY:Funeral Mass
DESCRIPTION:
URL:https://www.robertsofdunnellon.com/obituaries/kris-parent
LOCATION: 7545 U.S. 41  Dunnellon FL 34432
GEO:29.1115537;-82.4484862
END:VEVENT
END:VCALENDAR