BEGIN:VCALENDAR
VERSION:2.0
PRODID:-//Tukios.com/
BEGIN:VEVENT
UID:0feec2bb-5532-40ce-8e45-f6f136ceeb44@www.robertsofdunnellon.com
DTSTAMP:20260425T013756Z
DTSTART:20260428T163000Z
DTEND:20260428T173000Z
SUMMARY:Dunnellon Memorial Gardens
DESCRIPTION:
URL:https://www.robertsofdunnellon.com/obituaries/kris-parent
LOCATION: 10939 Southwest 210th Avenue  Dunnellon FL 34431
GEO:29.0651433;-82.4685668
END:VEVENT
END:VCALENDAR