BEGIN:VCALENDAR
VERSION:2.0
PRODID:-//Tukios.com/
BEGIN:VEVENT
UID:ad833c87-6b2a-4893-8acf-d6d8200c86af@www.robertsofdunnellon.com
DTSTAMP:20260425T013506Z
DTSTART:20260502T150000Z
DTEND:20260502T160000Z
SUMMARY:Riverland Baptist Church
DESCRIPTION:
URL:https://www.robertsofdunnellon.com/obituaries/lonney-evon
LOCATION: 19455 Southwest 61  Dunnellon FL 34432
GEO:29.126933;-82.4441736
END:VEVENT
END:VCALENDAR