BEGIN:VCALENDAR
VERSION:2.0
PRODID:-//Tukios.com/
BEGIN:VEVENT
UID:4695b091-c58a-4122-a695-37ccc26f2915@www.robertsofdunnellon.com
DTSTAMP:20260423T145043Z
DTSTART:20260427T150000Z
DTEND:20260427T160000Z
SUMMARY:Funeral Service
DESCRIPTION:
URL:https://www.robertsofdunnellon.com/obituaries/michael-roof-sr
LOCATION: 19939 E Pennsylvania Ave  Dunnellon FL 34432
GEO:29.0498198;-82.4510516
END:VEVENT
END:VCALENDAR